BEGIN:VCALENDAR
VERSION:2.0
PRODID:-//Enneagram of Life - ECPv6.9.1//NONSGML v1.0//EN
CALSCALE:GREGORIAN
METHOD:PUBLISH
X-ORIGINAL-URL:https://enneagramoflife.com
X-WR-CALDESC:Events for Enneagram of Life
REFRESH-INTERVAL;VALUE=DURATION:PT1H
X-Robots-Tag:noindex
X-PUBLISHED-TTL:PT1H
BEGIN:VTIMEZONE
TZID:Europe/Amsterdam
BEGIN:DAYLIGHT
TZOFFSETFROM:+0100
TZOFFSETTO:+0200
TZNAME:CEST
DTSTART:20250330T010000
END:DAYLIGHT
BEGIN:STANDARD
TZOFFSETFROM:+0200
TZOFFSETTO:+0100
TZNAME:CET
DTSTART:20251026T010000
END:STANDARD
END:VTIMEZONE
BEGIN:VEVENT
DTSTART;VALUE=DATE:20250907
DTEND;VALUE=DATE:20251103
DTSTAMP:20260419T183652
CREATED:20250709T160553Z
LAST-MODIFIED:20250719T082300Z
UID:4843-1757203200-1762127999@enneagramoflife.com
SUMMARY:Life Mastery Training
DESCRIPTION:
URL:https://enneagramoflife.com/event/life-mastery-training/
LOCATION:Online
END:VEVENT
BEGIN:VEVENT
DTSTART;TZID=Europe/Amsterdam:20250309T103000
DTEND;TZID=Europe/Amsterdam:20250601T130000
DTSTAMP:20260419T183652
CREATED:20250111T095515Z
LAST-MODIFIED:20250216T091119Z
UID:4322-1741516200-1748782800@enneagramoflife.com
SUMMARY:Enneagram of Life Course
DESCRIPTION:
URL:https://enneagramoflife.com/event/enneagram-of-life-mastery-course/
LOCATION:Online
ATTACH;FMTTYPE=image/png:https://enneagramoflife.com/wp-content/uploads/2025/01/file-copy-min.png
END:VEVENT
END:VCALENDAR